BEGIN:VCALENDAR
VERSION:2.0
CALSCALE:GREGORIAN
PRODID:-//MyApp//Calendar 1.0//EN
BEGIN:VEVENT
METHOD:PUBLISH
UID:58007@regionalniportaly.cz
DTSTAMP:20260425T142126Z
DTSTART;VALUE=DATE:20251127
DTEND;VALUE=DATE:20251128
SUMMARY:ZuZu kabaret na Patře
DESCRIPTION:&nbsp\;ZuZu Kabaret přichází do Tišnova!&nbsp\;Dámy a pánové\, připravte se na večer\, jaký v Tišnově ještě nebyl!Na jediném pódiu se potká elegance kabaretu\, svůdná burleska\, energické taneční kreace i originální akrobatický tanec. O večer se postará zkušená moderace\, která vás nejen pobaví\, ale možná i trochu zapojí do hry…&nbsp\;Na co se můžete těšit?Burleskní show plná šarmu a nadsázkyPestrá taneční a kabaretní vystoupeníAkrobatický tanec\, který vás dostane svou dynamikouModerátor\, který vás nenechá vydechnout mezi číslyTombola o skvělé cenyA také&nbsp\;soutěž pro odvážlivce z publika&nbsp\;– kdo se odváží\, toho čeká nezapomenutelný zážitek!&nbsp\;Kabaret je především o radosti\, smíchu a překvapení. My se postaráme o program\, vy si jen užijete večer plný barev\, hudby a emocí.&nbsp\;O zábavu je zkrátka postaráno\, tak si nenechte ujít tuto jedinečnou událost!
LOCATION:Tišnov
END:VEVENT
END:VCALENDAR