BEGIN:VCALENDAR
VERSION:2.0
CALSCALE:GREGORIAN
PRODID:-//MyApp//Calendar 1.0//EN
BEGIN:VEVENT
METHOD:PUBLISH
UID:58860@regionalniportaly.cz
DTSTAMP:20260425T170158Z
DTSTART;VALUE=DATE:20251011
DTEND;VALUE=DATE:20251012
SUMMARY:Event Super Patch 2025
DESCRIPTION:BRNO – 11. 10. 2025 | HOTEL ATLANTIS10:00 – 16:00Vstupenka: 350 Kč (od 12. 9. cena stoupne na 450 Kč)&nbsp\;Unikátní celodenní akce plná inspirace\, zkušeností a příležitostí!&nbsp\;Přijď zažít den\, který ti může změnit životní směr i byznys.Na jednom místě se potkáš s lidmi\, kteří mají výsledky\, zkušenosti a energii\, kterou posouvají dál.&nbsp\;Co tě čeká:1.&nbsp\;Pro vize\, ne výmluvy – udělej z vize reálný směr.2.&nbsp\;Zkušenosti\, které fungují – praktické příklady\, výsledky a zpětné vazby.3.&nbsp\;Business očima těch\, kdo ho žijí – lídři\, kteří inspirují a vedou.4.&nbsp\;Klíč k dalšímu levelu – zjisti\, co ti ještě chybělo k větší lehkosti a úspěchům.&nbsp\;Hostem akce bude Wolfgang Zutz – President Super Patch\, který osobně předá know-how z první ruky.
LOCATION:Rozdrojovice
END:VEVENT
END:VCALENDAR