BEGIN:VCALENDAR
VERSION:2.0
CALSCALE:GREGORIAN
PRODID:-//MyApp//Calendar 1.0//EN
BEGIN:VEVENT
METHOD:PUBLISH
UID:61146@regionalniportaly.cz
DTSTAMP:20260423T071021Z
DTSTART;VALUE=DATE:20261211
DTEND;VALUE=DATE:20261212
SUMMARY:Bílé Vánoce Lucie Bílé s kapelou Petra Maláska a Bílý sbor
DESCRIPTION:Město Rájec-Jestřebí Vás srdečně zve na Vánoční koncert - Bílé Vánoce Lucie Bílé.
LOCATION:Rájec-Jestřebí
END:VEVENT
END:VCALENDAR