BEGIN:VCALENDAR
VERSION:2.0
CALSCALE:GREGORIAN
PRODID:-//MyApp//Calendar 1.0//EN
BEGIN:VEVENT
METHOD:PUBLISH
UID:62163@regionalniportaly.cz
DTSTAMP:20260425T142710Z
DTSTART;VALUE=DATE:20260221
DTEND;VALUE=DATE:20260222
SUMMARY:Jubilejní 10. charitativní ples Nadačního fondu Vrba
DESCRIPTION:Zveme vás na jubilejní&nbsp\;10.&nbsp\;charitativní ples Nadačního fondu Vrba\, který se uskuteční v sobotu&nbsp\;21.&nbsp\;února 2026 od 19:30 v&nbsp\;Sokolovně v&nbsp\;Nedvědici u Brna.&nbsp\;K&nbsp\;tanci a&nbsp\;poslechu bude hrát&nbsp\;Salonní Orchestr Brno.Svým zpěvem nás okouzlí host večera&nbsp\;Berenika Kohoutová.Představí se houslový virtuos&nbsp\;Michael Hejč.Přivítáme i brněnskou taneční skupinu Magic Free Group.Večerem nás provede&nbsp\;Jarka Vykoupilová\, moderátorka Českého rozhlasu Brno.Součástí programu bude také taneční vystoupení\, fotokoutek a&nbsp\;tombola.Na plese bude možná&nbsp\;platba pouze v hotovosti.Výtěžek z&nbsp\;plesu podpoří služby pro pozůstalé rodiny s&nbsp\;dětmi.Děkujeme všem\, kteří s&nbsp\;námi pomáhají.
LOCATION:Nedvědice
END:VEVENT
END:VCALENDAR