BEGIN:VCALENDAR
VERSION:2.0
CALSCALE:GREGORIAN
PRODID:-//MyApp//Calendar 1.0//EN
BEGIN:VEVENT
METHOD:PUBLISH
UID:65796@regionalniportaly.cz
DTSTAMP:20260423T070529Z
DTSTART;VALUE=DATE:20260618
DTEND;VALUE=DATE:20260619
SUMMARY:Arte Flamenco
DESCRIPTION:Festival iberoamerických kultur IBÉRICA letos rozšiřuje svůj program o novou destinaci – Kuřim. Dne 18. června se na nádvoří kuřimského zámku představí španělská tanečnice Virginia Delgado v hudebně-tanečním projektu ARTE FLAMENCO\, který diváky provede taneční cestou napříč andaluskými regiony\, z nichž každý nese svůj osobitý flamenkový styl.&nbsp\;Tanec Virginie Delgado se vyznačuje elegancí\, vášní a technickou brilancí. Na jevišti ji doprovodí trojice špičkových flamenkových hudebníků – Morenito de Triana\, Matěj Konečný a Václav Greif. Hostem večera bude česko-kolumbijská tanečnice Verónica Roa.&nbsp\;Virginia Delgado – flamenkový tanecVerónica Roa – flamenkový tanecMorenito de Triana – kytaraVáclav Greif – klávesyMatěj Konečný – perkuse&nbsp\;Součástí tohoto večera plného jižanské hudby a tance budou také kulinářské zážitky – diváci budou mít možnost ochutnat španělské delikatesy a vína.
LOCATION:Kuřim
END:VEVENT
END:VCALENDAR