BEGIN:VCALENDAR
VERSION:2.0
CALSCALE:GREGORIAN
PRODID:-//MyApp//Calendar 1.0//EN
BEGIN:VEVENT
METHOD:PUBLISH
UID:65811@regionalniportaly.cz
DTSTAMP:20260423T070604Z
DTSTART;VALUE=DATE:20260620
DTEND;VALUE=DATE:20260621
SUMMARY:HANDEC FEST 2026
DESCRIPTION:HANDEC FEST se koná od roku 2013. Letos v sobotu 20. června 2026 na nádvoří zámku v Kuřimi (otevření areálu v 16:30):16:30 | DJ ProkopPo otevření areálu pro všechny příchozí naladí atmosféru produkce mixované hudby a doprovodí první moderátorské soutěže.&nbsp\;18:00 | MUCHAEnergická\, syrová\, drzá a upřímná. Pseudopunková formace kolem Nikoly Muchové\, která se do povědomí dostala provokativními písněmi o mužské neschopnosti\, úchylkách i dalších podivnostech života.19:45 | CIVILNÍ OBRANAAutorský punkrock bez kudrlinek\, ozdoba desítek letních festivalů. Kytarová muzika doplněná o elektronické samply. Na kontě má čtyři studiová alba.21:30 | U2 STAY TRIBUTE BANDKoncertní pocta legendárním U2 a atmosféra jak na velkém pódiu. Zazní pecky\, při kterých se probudí alter ego irských hvězd.23:00 | MANIACPůlnoc přivítáme s Maniaky. Žádná vata - lavina energie se vrací do Kuřimi. Dance-rocková kapela Maniac\, která baví všechny generace vtipnými texty\, stadionovými refrény a neskutečnou energií naživo.Nezmeškej&nbsp\;jedinečný večer skvělé hudby a získej vstupenky výhodně už dnes \;-)Vstupné 500&nbsp\;Kč na místě\, v předprodeji levněji pouze přes SMSTICKET 300 Kč (při nákupu do 31.05.2026).&nbsp\;Děti do 15 let vstup zdarma.&nbsp\;
LOCATION:Kuřim
END:VEVENT
END:VCALENDAR